BEGIN:VCALENDAR
VERSION:2.0
PRODID:-//Grand Forks AFB FSS - ECPv6.15.20//NONSGML v1.0//EN
CALSCALE:GREGORIAN
METHOD:PUBLISH
X-ORIGINAL-URL:https://grandforks319fss.com
X-WR-CALDESC:Events for Grand Forks AFB FSS
REFRESH-INTERVAL;VALUE=DURATION:PT1H
X-Robots-Tag:noindex
X-PUBLISHED-TTL:PT1H
BEGIN:VTIMEZONE
TZID:America/Chicago
BEGIN:DAYLIGHT
TZOFFSETFROM:-0600
TZOFFSETTO:-0500
TZNAME:CDT
DTSTART:20250309T080000
END:DAYLIGHT
BEGIN:STANDARD
TZOFFSETFROM:-0500
TZOFFSETTO:-0600
TZNAME:CST
DTSTART:20251102T070000
END:STANDARD
BEGIN:DAYLIGHT
TZOFFSETFROM:-0600
TZOFFSETTO:-0500
TZNAME:CDT
DTSTART:20260308T080000
END:DAYLIGHT
BEGIN:STANDARD
TZOFFSETFROM:-0500
TZOFFSETTO:-0600
TZNAME:CST
DTSTART:20261101T070000
END:STANDARD
BEGIN:DAYLIGHT
TZOFFSETFROM:-0600
TZOFFSETTO:-0500
TZNAME:CDT
DTSTART:20270314T080000
END:DAYLIGHT
BEGIN:STANDARD
TZOFFSETFROM:-0500
TZOFFSETTO:-0600
TZNAME:CST
DTSTART:20271107T070000
END:STANDARD
END:VTIMEZONE
BEGIN:VEVENT
DTSTART;TZID=America/Chicago:20260410T173000
DTEND;TZID=America/Chicago:20260410T220000
DTSTAMP:20260423T050734
CREATED:20260327T210456Z
LAST-MODIFIED:20260327T210456Z
UID:10004188-1775842200-1775858400@grandforks319fss.com
SUMMARY:Free Movie Night
DESCRIPTION:Join us on Friday\, 10 April for a FREE Movie Night at the Base Theater! \nWe’ll be showing a double-feature presentation of The Spongebob Movie: Search for Squarepants (PG)\, followed by Marty Supreme (R). \nDoors open @ 5pm | Spongebob starts @ 5:30pm | Marty Supreme starts @ 8pm \nBring your own snacks! There will be no concessions available for purchase. \nClick here to vote for the movies you want to see at our next movie night on 25 April! Voting closes 5 April.
URL:https://grandforks319fss.com/event/free-movie-night-2026-04-10/
LOCATION:Base Theater\, 551 Holzapple St.\, Grand Forks AFB\, ND\, 58205\, United States
CATEGORIES:Adults,Base Theater,Family,Front Page,Teens
ATTACH;FMTTYPE=image/jpeg:https://grandforks319fss.com/wp-content/uploads/FreeMovieNight_10Apr2026_1080.jpg
END:VEVENT
BEGIN:VEVENT
DTSTART;TZID=America/Chicago:20260411T170000
DTEND;TZID=America/Chicago:20260411T210000
DTSTAMP:20260423T050734
CREATED:20260108T233953Z
LAST-MODIFIED:20260108T234843Z
UID:10004094-1775926800-1775941200@grandforks319fss.com
SUMMARY:Give Parents a Break
DESCRIPTION:Let us entertain your kids\, while you take a few hours off!\n\n\nThe Give Parents a Break program is funded by the Air Force Aid Society and provides childcare for eligible parents who are subject to unique stresses due to the nature of military life: including deployments\, extended TDYs\, or recent PCSs. \nEligible parents may receive free childcare\, with a referral from the Military & Family Readiness Center. Parents must apply for reimbursement on the AFAS Portal. \nParent’s Day/Night Out runs concurrently with Give Parents a Break. Care is provided to all other base families without a referral at a rate of $32 per child (on a space available basis.) \nSign up online in your CYP-BMS account by 1 April. \nClick here for more information on Give Parents a Break & Parents’ Day/Night Out
URL:https://grandforks319fss.com/event/give-parents-a-break-2026-4/
LOCATION:Child Development Center\, 1683 J Street Bldg. 168\, Grand Forks AFB\, ND\, 58205\, United States
CATEGORIES:Child Development Center,Family,School-Age Care
ATTACH;FMTTYPE=image/jpeg:https://grandforks319fss.com/wp-content/uploads/GPAB2026_APR_1080.jpg
END:VEVENT
BEGIN:VEVENT
DTSTART;TZID=America/Chicago:20260425T090000
DTEND;TZID=America/Chicago:20260425T160000
DTSTAMP:20260423T050734
CREATED:20260319T214406Z
LAST-MODIFIED:20260319T214406Z
UID:10004180-1777107600-1777132800@grandforks319fss.com
SUMMARY:Scrapbooking & Papercrafting Day
DESCRIPTION:Join us for a day of FREE crafting and scrapbooking fun! \nDrop-in any time between 9am to 4pm to work on your current creation! \nEnhance your project with our Cricut and Big Shot machines\, paper\, embellishments\, and much more!
URL:https://grandforks319fss.com/event/scrapbooking-papercrafting-day-2026-04-25/
LOCATION:Arts & Crafts\, 543 Holzapple St. Bldg. 203\, Grand Forks AFB\, ND\, 58205\, United States
CATEGORIES:Adults,Arts & Crafts,Front Page,Teens
ATTACH;FMTTYPE=image/jpeg:https://grandforks319fss.com/wp-content/uploads/ScrapbookingDay2026_APR_1080.jpg
END:VEVENT
BEGIN:VEVENT
DTSTART;TZID=America/Chicago:20260425T150000
DTEND;TZID=America/Chicago:20260425T200000
DTSTAMP:20260423T050734
CREATED:20260327T211632Z
LAST-MODIFIED:20260407T220248Z
UID:10004189-1777129200-1777147200@grandforks319fss.com
SUMMARY:Free Movie Night
DESCRIPTION:Great Scott\, the votes are in! \nJoin us on Saturday\, 25 April for Time Travel Night at the Base Theater! \nWe’ll be showing a FREE double-feature presentation of Back to the Future (PG)\, followed by Interstellar (PG-13). \nDoors open @ 2:30pm | Back to the Future starts @ 3pm | Interstellar starts @ 6pm \nBring your own snacks! There will be no concessions available for purchase. \nClick here to vote for the movies you want to see at this movie night! \nVoting closes 5 April.
URL:https://grandforks319fss.com/event/free-movie-night-2026-04-25/
LOCATION:Base Theater\, 551 Holzapple St.\, Grand Forks AFB\, ND\, 58205\, United States
CATEGORIES:Adults,Base Theater,Family,Front Page,Teens
ATTACH;FMTTYPE=image/jpeg:https://grandforks319fss.com/wp-content/uploads/FreeMovieNight_25Apr2026_1080.jpg
END:VEVENT
BEGIN:VEVENT
DTSTART;TZID=America/Chicago:20260429T170000
DTEND;TZID=America/Chicago:20260430T190000
DTSTAMP:20260423T050734
CREATED:20260326T174619Z
LAST-MODIFIED:20260420T210331Z
UID:10004182-1777482000-1777575600@grandforks319fss.com
SUMMARY:Pickleball Tournament
DESCRIPTION:Get ready to rally! Grab a partner and join us on 29 & 30 April for a double-elimination pickleball tournament at the Fitness Center! \nTwo-person teams will battle it out from 5pm to 7pm across two evenings of fun & friendly competition. \nChoose between the beginner or advanced bracket. \nSign up online by 24 April to secure your team’s spot! \nThis is a 2-day tournament. You must be able to attend both evenings of competition. \nClick here to sign up!
URL:https://grandforks319fss.com/event/pickleball-tournament-2026-04/
LOCATION:Fitness Center\, 449 Tuskegee Airmen Blvd. Bldg. 384\, Grand Forks AFB\, ND\, 58205\, United States
CATEGORIES:Adults,Fitness Center Events,Front Page
ATTACH;FMTTYPE=image/jpeg:https://grandforks319fss.com/wp-content/uploads/PickleballTournament2026_APR_1080_v2.jpg
END:VEVENT
BEGIN:VEVENT
DTSTART;TZID=America/Chicago:20260504T120000
DTEND;TZID=America/Chicago:20260504T170000
DTSTAMP:20260423T050734
CREATED:20260420T171115Z
LAST-MODIFIED:20260420T171115Z
UID:10004211-1777896000-1777914000@grandforks319fss.com
SUMMARY:May the Fourth Be With You
DESCRIPTION:Join us\, you must\, at the Library for a special Star Wars Day celebration! \nDress in your Jedi (or Sith…we don’t know your allegiance) best and enjoy an afternoon of Star Wars movies\, popcorn\, cosplay\, and themed crafts for the padawans! \nAll ages are welcome! Costumes encouraged! \nMay the Fourth Be With You \n  \n\n\nVOLUNTEERS WANTED\nDo you have a Star Wars cosplay/costume that you are looking for an excuse to don? We are looking for volunteers to dress up in character\, interact with guests\, and help with activities at the event. If you’ve ever wanted to serve the galaxy\, this is your chance! \nIf you are interested in volunteering\, please contact the Library at 701-747-3046.
URL:https://grandforks319fss.com/event/may-the-4th-be-with-you/
LOCATION:Library\, 511 Holzapple St. Bldg. 201\, Grand Forks AFB\, ND\, 58205\, United States
CATEGORIES:Adults,Family,Front Page,Library Events,Teens
ATTACH;FMTTYPE=image/jpeg:https://grandforks319fss.com/wp-content/uploads/Maythe4th2026_1080.jpg
END:VEVENT
BEGIN:VEVENT
DTSTART;TZID=America/Chicago:20260508T173000
DTEND;TZID=America/Chicago:20260508T220000
DTSTAMP:20260423T050734
CREATED:20260407T183543Z
LAST-MODIFIED:20260415T234258Z
UID:10004209-1778261400-1778277600@grandforks319fss.com
SUMMARY:Free Movie Night
DESCRIPTION:Join us on Friday\, 8 May for a FREE Movie Night at the Base Theater! \nWe’ll be showing a double-feature presentation of Goat (PG)\, followed by Send Help (R). \nDoors open @ 5pm | Goat starts @ 5:30pm | Send Help starts @ 8pm \nBring your own snacks! There will be no concessions available for purchase. \nClick here to vote for the movies you want to see at our next movie night on 23 May! \nVoting closes 3 May.
URL:https://grandforks319fss.com/event/free-movie-night-2026-05-08/
LOCATION:Base Theater\, 551 Holzapple St.\, Grand Forks AFB\, ND\, 58205\, United States
CATEGORIES:Adults,Base Theater,Family,Front Page,Teens
ATTACH;FMTTYPE=image/jpeg:https://grandforks319fss.com/wp-content/uploads/FreeMovieNight_8May2026_1080.jpg
END:VEVENT
BEGIN:VEVENT
DTSTART;TZID=America/Chicago:20260512T143000
DTEND;TZID=America/Chicago:20260512T160000
DTSTAMP:20260423T050734
CREATED:20260422T215140Z
LAST-MODIFIED:20260422T215140Z
UID:10004212-1778596200-1778601600@grandforks319fss.com
SUMMARY:Color Run 5k
DESCRIPTION:Add some color to your day with our Color Run 5k! \nJoin us on 12 May at the Fitness Center 5k Trail for a fun and messy 5k Run / Walk! \nWalkers will start at 2:30pm\, runners start at 3pm. \nDon’t forget to wear white!
URL:https://grandforks319fss.com/event/color-run-5k/
LOCATION:5k Trail (across from the Fitness Center)\, 449 Tuskegee Airman Blvd\, Bldg 384\, Grand Forks AFB\, ND\, 58205\, United States
CATEGORIES:Adults,Family,Fitness Center Events,Front Page,Teens
ATTACH;FMTTYPE=image/jpeg:https://grandforks319fss.com/wp-content/uploads/ColorRun2026_1080.jpg
END:VEVENT
BEGIN:VEVENT
DTSTART;TZID=America/Chicago:20260516T100000
DTEND;TZID=America/Chicago:20260516T140000
DTSTAMP:20260423T050734
CREATED:20260326T210010Z
LAST-MODIFIED:20260326T210010Z
UID:10004183-1778925600-1778940000@grandforks319fss.com
SUMMARY:Give Parents a Break
DESCRIPTION:Let us entertain your kids\, while you take a few hours off!\n\n\nThe Give Parents a Break program is funded by the Air Force Aid Society and provides childcare for eligible parents who are subject to unique stresses due to the nature of military life: including deployments\, extended TDYs\, or recent PCSs. \nEligible parents may receive free childcare\, with a referral from the Military & Family Readiness Center. Parents must apply for reimbursement on the AFAS Portal. \nParent’s Day/Night Out runs concurrently with Give Parents a Break. Care is provided to all other base families without a referral at a rate of $32 per child (on a space available basis.) \nSign up online in your CYP-BMS account by 6 May. \nClick here for more information on Give Parents a Break & Parents’ Day/Night Out
URL:https://grandforks319fss.com/event/give-parents-a-break-2026-05/
LOCATION:Child Development Center\, 1683 J Street Bldg. 168\, Grand Forks AFB\, ND\, 58205\, United States
CATEGORIES:Child Development Center,Family,School-Age Care
ATTACH;FMTTYPE=image/jpeg:https://grandforks319fss.com/wp-content/uploads/GPAB2026_MAY_1080.jpg
END:VEVENT
BEGIN:VEVENT
DTSTART;TZID=America/Chicago:20260523T150000
DTEND;TZID=America/Chicago:20260523T200000
DTSTAMP:20260423T050734
CREATED:20260407T180730Z
LAST-MODIFIED:20260416T154211Z
UID:10004208-1779548400-1779566400@grandforks319fss.com
SUMMARY:Free Movie Night
DESCRIPTION:Join us on Saturday\, 23 May for a FREE Movie Night at the Base Theater! \nWe’ll be showing a double-feature presentation of TBD (PG)\, followed by TBD (PG-13/R). \nDoors open @ 2:30pm | Movie 1 starts @ 3pm | Movie 2 starts @ 6pm \nBring your own snacks! There will be no concessions available for purchase. \nClick here to vote for the movies you want to see at this movie night! \nVoting closes 3 May.
URL:https://grandforks319fss.com/event/free-movie-night-2026-05-23/
LOCATION:Base Theater\, 551 Holzapple St.\, Grand Forks AFB\, ND\, 58205\, United States
CATEGORIES:Adults,Base Theater,Family,Front Page,Teens
ATTACH;FMTTYPE=image/jpeg:https://grandforks319fss.com/wp-content/uploads/MovieNightVote_event.jpg
END:VEVENT
BEGIN:VEVENT
DTSTART;TZID=America/Chicago:20260912T170000
DTEND;TZID=America/Chicago:20260912T210000
DTSTAMP:20260423T050734
CREATED:20260326T210113Z
LAST-MODIFIED:20260326T210113Z
UID:10004184-1789232400-1789246800@grandforks319fss.com
SUMMARY:Give Parents a Break
DESCRIPTION:Let us entertain your kids\, while you take a few hours off!\n\n\nThe Give Parents a Break program is funded by the Air Force Aid Society and provides childcare for eligible parents who are subject to unique stresses due to the nature of military life: including deployments\, extended TDYs\, or recent PCSs. \nEligible parents may receive free childcare\, with a referral from the Military & Family Readiness Center. Parents must apply for reimbursement on the AFAS Portal. \nParent’s Day/Night Out runs concurrently with Give Parents a Break. Care is provided to all other base families without a referral at a rate of $32 per child (on a space available basis.) \nSign up online in your CYP-BMS account by 2 September. \nClick here for more information on Give Parents a Break & Parents’ Day/Night Out
URL:https://grandforks319fss.com/event/give-parents-a-break-2026-09/
LOCATION:Child Development Center\, 1683 J Street Bldg. 168\, Grand Forks AFB\, ND\, 58205\, United States
CATEGORIES:Child Development Center,Family,School-Age Care
ATTACH;FMTTYPE=image/jpeg:https://grandforks319fss.com/wp-content/uploads/GPAB2026_SEP_1080.jpg
END:VEVENT
BEGIN:VEVENT
DTSTART;TZID=America/Chicago:20261010T100000
DTEND;TZID=America/Chicago:20261010T140000
DTSTAMP:20260423T050734
CREATED:20260326T210213Z
LAST-MODIFIED:20260326T210428Z
UID:10004185-1791626400-1791640800@grandforks319fss.com
SUMMARY:Give Parents a Break
DESCRIPTION:Let us entertain your kids\, while you take a few hours off!\n\n\nThe Give Parents a Break program is funded by the Air Force Aid Society and provides childcare for eligible parents who are subject to unique stresses due to the nature of military life: including deployments\, extended TDYs\, or recent PCSs. \nEligible parents may receive free childcare\, with a referral from the Military & Family Readiness Center. Parents must apply for reimbursement on the AFAS Portal. \nParent’s Day/Night Out runs concurrently with Give Parents a Break. Care is provided to all other base families without a referral at a rate of $32 per child (on a space available basis.) \nSign up online in your CYP-BMS account by 30 September. \nClick here for more information on Give Parents a Break & Parents’ Day/Night Out
URL:https://grandforks319fss.com/event/give-parents-a-break-2026-10/
LOCATION:Child Development Center\, 1683 J Street Bldg. 168\, Grand Forks AFB\, ND\, 58205\, United States
CATEGORIES:Child Development Center,Family,School-Age Care
ATTACH;FMTTYPE=image/jpeg:https://grandforks319fss.com/wp-content/uploads/GPAB2026_OCT_1080.jpg
END:VEVENT
BEGIN:VEVENT
DTSTART;TZID=America/Chicago:20261114T170000
DTEND;TZID=America/Chicago:20261114T210000
DTSTAMP:20260423T050734
CREATED:20260326T210320Z
LAST-MODIFIED:20260326T210320Z
UID:10004186-1794675600-1794690000@grandforks319fss.com
SUMMARY:Give Parents a Break
DESCRIPTION:Let us entertain your kids\, while you take a few hours off!\n\n\nThe Give Parents a Break program is funded by the Air Force Aid Society and provides childcare for eligible parents who are subject to unique stresses due to the nature of military life: including deployments\, extended TDYs\, or recent PCSs. \nEligible parents may receive free childcare\, with a referral from the Military & Family Readiness Center. Parents must apply for reimbursement on the AFAS Portal. \nParent’s Day/Night Out runs concurrently with Give Parents a Break. Care is provided to all other base families without a referral at a rate of $32 per child (on a space available basis.) \nSign up online in your CYP-BMS account by 4 November. \nClick here for more information on Give Parents a Break & Parents’ Day/Night Out
URL:https://grandforks319fss.com/event/give-parents-a-break-2026-11/
LOCATION:Child Development Center\, 1683 J Street Bldg. 168\, Grand Forks AFB\, ND\, 58205\, United States
CATEGORIES:Child Development Center,Family,School-Age Care
ATTACH;FMTTYPE=image/jpeg:https://grandforks319fss.com/wp-content/uploads/GPAB2026_NOV_1080.jpg
END:VEVENT
BEGIN:VEVENT
DTSTART;TZID=America/Chicago:20261212T100000
DTEND;TZID=America/Chicago:20261212T140000
DTSTAMP:20260423T050734
CREATED:20260326T210540Z
LAST-MODIFIED:20260326T210540Z
UID:10004187-1797069600-1797084000@grandforks319fss.com
SUMMARY:Give Parents a Break
DESCRIPTION:Let us entertain your kids\, while you take a few hours off!\n\n\nThe Give Parents a Break program is funded by the Air Force Aid Society and provides childcare for eligible parents who are subject to unique stresses due to the nature of military life: including deployments\, extended TDYs\, or recent PCSs. \nEligible parents may receive free childcare\, with a referral from the Military & Family Readiness Center. Parents must apply for reimbursement on the AFAS Portal. \nParent’s Day/Night Out runs concurrently with Give Parents a Break. Care is provided to all other base families without a referral at a rate of $32 per child (on a space available basis.) \nSign up online in your CYP-BMS account by 2 December. \nClick here for more information on Give Parents a Break & Parents’ Day/Night Out
URL:https://grandforks319fss.com/event/give-parents-a-break-2026-12/
LOCATION:Child Development Center\, 1683 J Street Bldg. 168\, Grand Forks AFB\, ND\, 58205\, United States
CATEGORIES:Child Development Center,Family,School-Age Care
ATTACH;FMTTYPE=image/jpeg:https://grandforks319fss.com/wp-content/uploads/GPAB2026_DEC_1080.jpg
END:VEVENT
END:VCALENDAR