BEGIN:VCALENDAR
VERSION:2.0
PRODID:-//Grand Forks AFB FSS - ECPv6.15.20//NONSGML v1.0//EN
CALSCALE:GREGORIAN
METHOD:PUBLISH
X-WR-CALNAME:Grand Forks AFB FSS
X-ORIGINAL-URL:https://grandforks319fss.com
X-WR-CALDESC:Events for Grand Forks AFB FSS
REFRESH-INTERVAL;VALUE=DURATION:PT1H
X-Robots-Tag:noindex
X-PUBLISHED-TTL:PT1H
BEGIN:VTIMEZONE
TZID:America/Chicago
BEGIN:DAYLIGHT
TZOFFSETFROM:-0600
TZOFFSETTO:-0500
TZNAME:CDT
DTSTART:20250309T080000
END:DAYLIGHT
BEGIN:STANDARD
TZOFFSETFROM:-0500
TZOFFSETTO:-0600
TZNAME:CST
DTSTART:20251102T070000
END:STANDARD
BEGIN:DAYLIGHT
TZOFFSETFROM:-0600
TZOFFSETTO:-0500
TZNAME:CDT
DTSTART:20260308T080000
END:DAYLIGHT
BEGIN:STANDARD
TZOFFSETFROM:-0500
TZOFFSETTO:-0600
TZNAME:CST
DTSTART:20261101T070000
END:STANDARD
BEGIN:DAYLIGHT
TZOFFSETFROM:-0600
TZOFFSETTO:-0500
TZNAME:CDT
DTSTART:20270314T080000
END:DAYLIGHT
BEGIN:STANDARD
TZOFFSETFROM:-0500
TZOFFSETTO:-0600
TZNAME:CST
DTSTART:20271107T070000
END:STANDARD
END:VTIMEZONE
BEGIN:VEVENT
DTSTART;TZID=America/Chicago:20260430T173000
DTEND;TZID=America/Chicago:20260430T183000
DTSTAMP:20260423T114204
CREATED:20260413T202618Z
LAST-MODIFIED:20260413T202818Z
UID:10003980-1777570200-1777573800@grandforks319fss.com
SUMMARY:Book Club
DESCRIPTION:Join us on the last Thursday of every month for Book Club at the Library! \nChat about great reads with fellow book lovers + work on your knitting\, needlework or other favorite craft! Crafts are optional; great reads guaranteed! \nThis month’s book: Hamnet by Maggie O’Farrell \nCan’t make it in-person? Join our online discussions in the Grand Forks AFB LIbrary Book Club group on Facebook!
URL:https://grandforks319fss.com/event/book-club-2026-04/
LOCATION:Library\, 511 Holzapple St. Bldg. 201\, Grand Forks AFB\, ND\, 58205\, United States
CATEGORIES:Adults,Library Events,Teens
ATTACH;FMTTYPE=image/jpeg:https://grandforks319fss.com/wp-content/uploads/BookClub2026_APR_1080.jpg
END:VEVENT
BEGIN:VEVENT
DTSTART;TZID=America/Chicago:20260528T173000
DTEND;TZID=America/Chicago:20260528T183000
DTSTAMP:20260423T114204
CREATED:20260413T202827Z
LAST-MODIFIED:20260413T202913Z
UID:10003981-1779989400-1779993000@grandforks319fss.com
SUMMARY:Book Club
DESCRIPTION:Join us on the last Thursday of every month for Book Club at the Library! \nChat about great reads with fellow book lovers + work on your knitting\, needlework or other favorite craft! Crafts are optional; great reads guaranteed! \nThis month’s book: Project Hail Mary by Andy Weir \nCan’t make it in-person? Join our online discussions in the Grand Forks AFB LIbrary Book Club group on Facebook!
URL:https://grandforks319fss.com/event/book-club-2026-05/
LOCATION:Library\, 511 Holzapple St. Bldg. 201\, Grand Forks AFB\, ND\, 58205\, United States
CATEGORIES:Adults,Front Page,Library Events,Teens
ATTACH;FMTTYPE=image/jpeg:https://grandforks319fss.com/wp-content/uploads/BookClub2026_MAY_1080.jpg
END:VEVENT
BEGIN:VEVENT
DTSTART;TZID=America/Chicago:20260625T173000
DTEND;TZID=America/Chicago:20260625T183000
DTSTAMP:20260423T114204
CREATED:20260413T202921Z
LAST-MODIFIED:20260413T205404Z
UID:10003982-1782408600-1782412200@grandforks319fss.com
SUMMARY:Book Club
DESCRIPTION:Join us on the last Thursday of every month for Book Club at the Library! \nChat about great reads with fellow book lovers + work on your knitting\, needlework or other favorite craft! Crafts are optional; great reads guaranteed! \nThis month’s book: I Who Have Never Known Men by Jacqueline Harpman \nCan’t make it in-person? Join our online discussions in the Grand Forks AFB LIbrary Book Club group on Facebook!
URL:https://grandforks319fss.com/event/book-club-2026-06/
LOCATION:Library\, 511 Holzapple St. Bldg. 201\, Grand Forks AFB\, ND\, 58205\, United States
CATEGORIES:Adults,Library Events,Teens
ATTACH;FMTTYPE=image/jpeg:https://grandforks319fss.com/wp-content/uploads/BookClub2026_JUNE_1080.jpg
END:VEVENT
BEGIN:VEVENT
DTSTART;TZID=America/Chicago:20260730T173000
DTEND;TZID=America/Chicago:20260730T183000
DTSTAMP:20260423T114204
CREATED:20251203T220707Z
LAST-MODIFIED:20251203T233500Z
UID:10003983-1785432600-1785436200@grandforks319fss.com
SUMMARY:Book Club
DESCRIPTION:Join us on the last Thursday of every month for Book Club at the Library! \nChat about great reads with fellow book lovers + work on your knitting\, needlework or other favorite craft! Crafts are optional; great reads guaranteed! \nThis month’s book: TBD \nCan’t make it in-person? Join our online discussions in the Grand Forks AFB LIbrary Book Club group on Facebook!
URL:https://grandforks319fss.com/event/book-club/2026-07-30/
LOCATION:Library\, 511 Holzapple St. Bldg. 201\, Grand Forks AFB\, ND\, 58205\, United States
CATEGORIES:Adults,Library Events,Teens
ATTACH;FMTTYPE=image/jpeg:https://grandforks319fss.com/wp-content/uploads/BookClub2025_generic_1080.jpg
END:VEVENT
BEGIN:VEVENT
DTSTART;TZID=America/Chicago:20260827T173000
DTEND;TZID=America/Chicago:20260827T183000
DTSTAMP:20260423T114204
CREATED:20251203T220707Z
LAST-MODIFIED:20251203T233500Z
UID:10003984-1787851800-1787855400@grandforks319fss.com
SUMMARY:Book Club
DESCRIPTION:Join us on the last Thursday of every month for Book Club at the Library! \nChat about great reads with fellow book lovers + work on your knitting\, needlework or other favorite craft! Crafts are optional; great reads guaranteed! \nThis month’s book: TBD \nCan’t make it in-person? Join our online discussions in the Grand Forks AFB LIbrary Book Club group on Facebook!
URL:https://grandforks319fss.com/event/book-club/2026-08-27/
LOCATION:Library\, 511 Holzapple St. Bldg. 201\, Grand Forks AFB\, ND\, 58205\, United States
CATEGORIES:Adults,Library Events,Teens
ATTACH;FMTTYPE=image/jpeg:https://grandforks319fss.com/wp-content/uploads/BookClub2025_generic_1080.jpg
END:VEVENT
BEGIN:VEVENT
DTSTART;TZID=America/Chicago:20260924T173000
DTEND;TZID=America/Chicago:20260924T183000
DTSTAMP:20260423T114204
CREATED:20251203T220707Z
LAST-MODIFIED:20251203T233500Z
UID:10003985-1790271000-1790274600@grandforks319fss.com
SUMMARY:Book Club
DESCRIPTION:Join us on the last Thursday of every month for Book Club at the Library! \nChat about great reads with fellow book lovers + work on your knitting\, needlework or other favorite craft! Crafts are optional; great reads guaranteed! \nThis month’s book: TBD \nCan’t make it in-person? Join our online discussions in the Grand Forks AFB LIbrary Book Club group on Facebook!
URL:https://grandforks319fss.com/event/book-club/2026-09-24/
LOCATION:Library\, 511 Holzapple St. Bldg. 201\, Grand Forks AFB\, ND\, 58205\, United States
CATEGORIES:Adults,Library Events,Teens
ATTACH;FMTTYPE=image/jpeg:https://grandforks319fss.com/wp-content/uploads/BookClub2025_generic_1080.jpg
END:VEVENT
BEGIN:VEVENT
DTSTART;TZID=America/Chicago:20261029T173000
DTEND;TZID=America/Chicago:20261029T183000
DTSTAMP:20260423T114204
CREATED:20251203T220707Z
LAST-MODIFIED:20251203T233500Z
UID:10003986-1793295000-1793298600@grandforks319fss.com
SUMMARY:Book Club
DESCRIPTION:Join us on the last Thursday of every month for Book Club at the Library! \nChat about great reads with fellow book lovers + work on your knitting\, needlework or other favorite craft! Crafts are optional; great reads guaranteed! \nThis month’s book: TBD \nCan’t make it in-person? Join our online discussions in the Grand Forks AFB LIbrary Book Club group on Facebook!
URL:https://grandforks319fss.com/event/book-club/2026-10-29/
LOCATION:Library\, 511 Holzapple St. Bldg. 201\, Grand Forks AFB\, ND\, 58205\, United States
CATEGORIES:Adults,Library Events,Teens
ATTACH;FMTTYPE=image/jpeg:https://grandforks319fss.com/wp-content/uploads/BookClub2025_generic_1080.jpg
END:VEVENT
BEGIN:VEVENT
DTSTART;TZID=America/Chicago:20261126T173000
DTEND;TZID=America/Chicago:20261126T183000
DTSTAMP:20260423T114204
CREATED:20251203T220707Z
LAST-MODIFIED:20251203T233500Z
UID:10003987-1795714200-1795717800@grandforks319fss.com
SUMMARY:Book Club
DESCRIPTION:Join us on the last Thursday of every month for Book Club at the Library! \nChat about great reads with fellow book lovers + work on your knitting\, needlework or other favorite craft! Crafts are optional; great reads guaranteed! \nThis month’s book: TBD \nCan’t make it in-person? Join our online discussions in the Grand Forks AFB LIbrary Book Club group on Facebook!
URL:https://grandforks319fss.com/event/book-club/2026-11-26/
LOCATION:Library\, 511 Holzapple St. Bldg. 201\, Grand Forks AFB\, ND\, 58205\, United States
CATEGORIES:Adults,Library Events,Teens
ATTACH;FMTTYPE=image/jpeg:https://grandforks319fss.com/wp-content/uploads/BookClub2025_generic_1080.jpg
END:VEVENT
BEGIN:VEVENT
DTSTART;TZID=America/Chicago:20261231T173000
DTEND;TZID=America/Chicago:20261231T183000
DTSTAMP:20260423T114204
CREATED:20251203T220707Z
LAST-MODIFIED:20251203T233500Z
UID:10004021-1798738200-1798741800@grandforks319fss.com
SUMMARY:Book Club
DESCRIPTION:Join us on the last Thursday of every month for Book Club at the Library! \nChat about great reads with fellow book lovers + work on your knitting\, needlework or other favorite craft! Crafts are optional; great reads guaranteed! \nThis month’s book: TBD \nCan’t make it in-person? Join our online discussions in the Grand Forks AFB LIbrary Book Club group on Facebook!
URL:https://grandforks319fss.com/event/book-club/2026-12-31/
LOCATION:Library\, 511 Holzapple St. Bldg. 201\, Grand Forks AFB\, ND\, 58205\, United States
CATEGORIES:Adults,Library Events,Teens
ATTACH;FMTTYPE=image/jpeg:https://grandforks319fss.com/wp-content/uploads/BookClub2025_generic_1080.jpg
END:VEVENT
END:VCALENDAR